Workbook

Sheet 投与症例 
A1: ※ | B1: 該当欄に「〇」を入れてください。
A2: 香大書式５（投与症例）
A4: 臨床試験研究経費ポイント算出表
B6: 治験実施診療科：
B7: 治験課題名：
I8: （治験実施計画書番号： | M8: ）
A10: 要 素 | C10: ウエイト | D10: ポイント | L10: ポイント
D11: Ⅰ | F11: Ⅱ | H11: Ⅲ | J11: Ⅳ
D12: (ｳｴｲﾄ×1) | F12: (ｳｴｲﾄ×3) | H12: (ｳｴｲﾄ×5) | J12: (ｳｴｲﾄ×8)
A13: A | B13: 疾患の重篤度 | C13: 2 | E13: 軽度 | G13: 中等度 | I13: 重症又は重篤 | L13: =IF(D13="〇",2,IF(F13="〇",6,IF(H13="〇",10,"0"))) -> 0
A14: B | B14: 入院・外来の別 | C14: 1 | G14: 外来 | I14: 入院 | L14: =IF(F14="〇",3,IF(H14="〇",5,"0")) -> 0
A15: C | B15: 相の種類 | C15: 2 | E15: Ⅲ相 | G15: Ⅱ相 | I15: Ⅰ相 | L15: =IF(D15="〇",2,IF(F15="〇",6,IF(H15="〇",10,"0"))) -> 0
A16: D | B16: デザイン | C16: 2 | E16: オ－プン | G16: 単盲検 | I16: 二重盲検 | L16: =IF(D16="〇",2,IF(F16="〇",6,IF(H16="〇",10,"0"))) -> 0
A17: E | B17: プラセボの使用 | C17: 5 | E17: 使用 | L17: =IF(D17="〇",5,"0") -> 0
A18: F | B18: 併用薬の使用 | C18: 1 | E18: 同効薬でも 不変使用可 | G18: 同効薬のみ 禁止 | I18: 全面禁止 | L18: =IF(D18="〇",1,IF(F18="〇",3,IF(H18="〇",5,"0"))) -> 0
A19: G | B19: 治験薬の投与の経路 | C19: 1 | E19: 外用・経口 | G19: 皮下・筋注 | I19: 静 注 | K19: 点滴静注・動注 | L19: =IF(D19="〇",1,IF(F19="〇",3,IF(H19="〇",5,IF(J19="〇",8,"0")))) -> 0
A20: H | B20: 投与期間（ W） | C20: 2 | E20: ４週間以内 | G20: ５～２４週 | I20: ２５～４８週 | K20: ４９週から２４週ごとに ３ﾎﾟｲﾝﾄずつ加算 | L20: =IF(D20="〇",2,IF(F20="〇",6,IF(H20="〇",10,IF(J20="〇",16,"0")))) -> 0
A21: I | B21: ポピュレ－ション | C21: 1 | E21: 成人 | G21: 成人（高齢者・肝・腎障害等合併有） | I21: 小児 | K21: 新生児、 低体重出生児 | L21: =IF(D21="〇",1,IF(F21="〇",3,IF(H21="〇",5,IF(J21="〇",8,"0")))) -> 0
A22: J | B22: 被験者の選出 （適格+除外基準数） | C22: 1 | E22: 19以下 | G22: 20～29 | I22: 30以上 | L22: =IF(D22="〇",1,IF(F22="〇",3,IF(H22="〇",5,"0"))) -> 0
A23: K | B23: 観察頻度 （受診回数） | C23: 1 | E23: ４週に１回以内 | G23: ４週に２回 | I23: ４週に３回 | K23: ４週に４回以上 | L23: =IF(D23="〇",1,IF(F23="〇",3,IF(H23="〇",5,IF(J23="〇",8,"0")))) -> 0
A24: L | B24: 臨床検査・自他覚症状観察項目数（受診１回当り） | C24: 2 | E24: ２５項目以内 | G24: ２６～５０項目 | I24: ５１～１００項目 | K24: １０１項目以上 | L24: =IF(D24="〇",2,IF(F24="〇",6,IF(H24="〇",10,IF(J24="〇",16,"0")))) -> 0
A25: M | B25: 薬物動態測定等のための採血・採尿回数（受診１回当り） | C25: 2 | E25: １ 回 | G25: ２～３回 | I25: ４回以上 | L25: =IF(D25="〇",2,IF(F25="〇",6,IF(H25="〇",10,"0"))) -> 0
A26: N | B26: 機能検査、画像診断等 | C26: 3 | G26: ２項目以下 | I26: ３～４項目 | K26: ５項目以上 | L26: =IF(F26="〇",9,IF(H26="〇",15,IF(J26="〇",24,"0"))) -> 0
A27: O | B27: 生検回数 | C27: 5 | E27: 回 | L27: =C27*D27 -> 0
A28: P | B28: 国際共同試験 | C28: 5 | E28: 該当 | L28: =IF(D28="〇",5,) -> 0
A29: Q | B29: 2つ以上の同意の 必要性有 | C29: 2 | E29: 遺伝子解析を含まない | G29: 遺伝子解析を含む | L29: =IF(D29="〇",2,IF(F29="〇",6,)) -> 0
A30: 診療科合計 | L30: =SUM(L13:L29) -> 0
A31: R | B31: その他（他科） | C31: - | E31: ﾎﾟｲﾝﾄ 理由： | L31: =D31 -> 0
A32: S | B32: その他（協力部署） | C32: - | E32: ﾎﾟｲﾝﾄ 理由： | L32: =D32 -> 0

Sheet 治験薬管理費 (新)
A1: 香大書式５（治験薬管理費）
A3: 治験実施診療科： | E3: ='投与症例 '!C6 -> 0
A4: 治験課題名： | E4: ='投与症例 '!C7 -> 0
M5: （治験実施計画書番号： | N5: ='投与症例 '!J8 -> 0 | R5: ）
A7: 治験薬管理費ポイント算出表－治験・医薬品－
A8: 治験薬管理費A（契約単位）=（ポイント①）×1000円
B9: 要素 | E9: ウエイト | F9: I （ウエイト×1） | H9: Ⅱ （ウエイト×2） | J9: Ⅲ （ウエイト×3） | L9: Ⅳ （ウエイト×5） | P9: 備考 | R9: ポイント
A10: A | B10: 治験薬の剤形 | E10: 2 | I10: 内服・外用剤 ・予包散剤 | K10: 注射剤 | M10: 秤量散剤・ 水剤 | R10: =IF(H10="〇",4,IF(J10="〇",6,IF(L10="〇",10,"0"))) -> 0
A11: B | B11: 治験薬の種目 | E11: 3 | I11: 一般・毒・劇薬 | K11: 向精神薬・特定生物製剤 | M11: 麻薬・大麻 覚醒剤原料 | R11: =IF(H11="〇",6,IF(J11="〇",9,IF(L11="〇",15,))) -> 0
A12: C | B12: 保存状況 | E12: 3 | G12: 室温 | I12: 恒温槽 (15～25℃) | K12: 冷所 | M12: 冷凍、 麻薬金庫 | R12: =IF(F12="〇",3,IF(H12="〇",6,IF(J12="〇",9,IF(L12="〇",15,"0")))) -> 0
A13: 合 計 | E13: １契約当たりのポイント（年度毎） 合計（ ① ） | R13: =IF(SUM(R10:R12)=0,"",SUM(R10:R12))
A15: 治験薬管理費B（症例単位）=（ポイント②）×1000円／症例毎
B16: 要素 | E16: ウエイト | F16: I （ウエイト×1） | H16: Ⅱ （ウエイト×2） | J16: Ⅲ （ウエイト×3） | L16: Ⅳ （ウエイト×5） | P16: 備考 | R16: ポイント
A17: D | B17: 提供される治験使用薬の剤数、規格数 | E17: 2 | G17: 1または2 | I17: 3 | K17: 4 | M17: 5以上 | R17: =IF(F17="〇",2,IF(H17="〇",4,IF(J17="〇",6,IF(L17="〇",10,"0")))) -> 0
A18: E | B18: デザイン | E18: 3 | G18: オープン (薬剤番号等の指定なし) | I18: オープン (薬剤番号等の指定あり) | K18: 単盲検及び 二重盲検 | M18: 二重盲検 (非盲検対応) | R18: =IF(F18="〇",3,IF(H18="〇",6,IF(J18="〇",9,IF(L18="〇",15,"0")))) -> 0
A19: F | B19: 調剤及び出庫回数 | E19: 3 | G19: 単回 | I19: 2～6回 | K19: 7～12回 | M19: 13回から6回ごとに6ポイントを加算 | R19: =IF(F19="〇",3,IF(H19="〇",6,IF(J19="〇",9,IF(L19="〇",15,"0")))) -> 0
A20: G | B20: 調製後の注射剤直接容器保管 | E20: 6 | G20: 必要 | R20: =IF(F20="〇",6,"0") -> 0
A21: H | B21: 納入方法 | E21: 2 | G21: 単回 | I21: 分割 （発注不要） | K21: 分割 （発注必要） | R21: =IF(F21="〇",2,IF(H21="〇",4,IF(J21="〇",6,"0"))) -> 0
A22: I | B22: 薬剤師によるIXRS入力 (複数該当する場合は高い方のウエイトで算出) | E22: 3 | G22: 治験薬受領 登録必要 | I22: 払出時操作 必要 | K22: 使用後回収時 操作必要 | R22: =IF(F22="〇",3,IF(H22="〇",6,IF(J22="〇",9,"0"))) -> 0
A23: J | B23: 土日祝日の調製* | E23: 20 | G23: あり | R23: =IF(F23="〇",20,"0") -> 0
A24: K | B24: 薬剤師が行う調剤条件 | E24: 3 | G24: 計数調剤 | I24: 秤量調剤 | K24: 注射剤調製 (殺細胞性抗癌剤以外) | M24: 閉鎖式調製 器具を使用する調製(殺細胞性抗癌剤) | R24: =IF(F24="〇",3,IF(H24="〇",6,IF(J24="〇",9,IF(L24="〇",15,"0")))) -> 0
A25: 合 計 | E25: １症例当たりのポイント（症例毎） 合計（ ② ） | R25: =IF(SUM(R17:R24)=0,"",SUM(R17:R24))
C27: 部分に〇印を入力していただくと、自動的に計算されます。
B28: * | C28: プロトコール上、平日営業時間帯以外に対応が必要な場合が該当

Sheet 検査管理費
A1: 香大書式５（検査管理費）
B2: 治験実施診療科： | C2: ='投与症例 '!C6:G6 -> 0
B3: 治験課題名： | C3: ='投与症例 '!C7:L7 -> 0
I4: （治験実施計画書番号： | J4: ='投与症例 '!J8:L8 -> 0 | M4: ）
A5: ※ | B5: 該当欄に「数字」を入れてください。
A7: 検査管理費ポイント算出表
A8: 要 素 | C8: ウエイト | D8: ポイント | L8: ポイント
D9: Ⅰ | H9: Ⅱ
D10: (ｳｴｲﾄ×1) | H10: (ｳｴｲﾄ×2)
A11: A | B11: 外注検査・ 依頼者手順による検査 | C11: 1 | D11: 治験期間全体 ×（回数） | G11: 回 | L11: =F11 -> 0
A12: B | B12: 生理検査の実施 | C12: 1 | D12: 治験期間全体 ×（回数） | G12: 回 | H12: 治験期間全体 ×（回数） 依頼者手順による検査 | K12: 回 | L12: =F12+J12*2 -> 0
A13: 検査管理費合計 | L13: =SUM(L11:L12) -> 0
A15: 検査管理費ポイント算出表 （スクリーニング期脱落症例）
A16: 要 素 | C16: ウエイト | D16: ポイント | L16: ポイント
D17: Ⅰ | H17: Ⅱ
D18: (ｳｴｲﾄ×1) | H18: (ｳｴｲﾄ×2)
A19: A | B19: 外注検査・ 依頼者手順による検査 | C19: 1 | D19: スクリーニング ×（回数） | G19: 回 | L19: =F19 -> 0
A20: B | B20: 生理検査の実施 | C20: 1 | D20: スクリーニング ×（回数） | G20: 回 | H20: スクリーニング ×（回数） 依頼者手順による検査 | K20: 回 | L20: =F20+2*J20 -> 0
A21: 検査管理費合計 | L21: =SUM(L19:L20) -> 0
B23: １症例あたり検査管理費：＠1,000円×合計ポイント

Sheet 放射線管理費
A1: 香大書式５（放射線管理費）
B2: 治験実施診療科： | C2: ='投与症例 '!C6:G6 -> 0
B3: 治験課題名： | C3: ='投与症例 '!C7:L7 -> 0
I4: （治験実施計画書番号： | J4: ='投与症例 '!J8:L8 -> 0 | M4: ）
A5: ※ | B5: 該当欄に「数字又は〇」を入れてください。
A7: 放射線管理費ポイント算出表
A8: 要 素 | C8: ウエイト | D8: ポイント | L8: ポイント
D9: Ⅰ | H9: Ⅱ
D10: (ｳｴｲﾄ×1) | H10: (ｳｴｲﾄ×5)
A11: A | B11: 撮影回数 | C11: 1 | D11: 治験期間全体 ×（回数） 依頼者手順による撮影 | G11: 回 | L11: =F11 -> 0
A12: B | B12: テスト画像の有無 | C12: 3 | H12: あり | L12: =IF(K12="〇",15,0) -> 0
A13: C | B13: 説明会実施・ ファントム管理 | C13: 2 | D13: あり | H13: ３カ月に１回以上 | L13: =IF(G13="〇",2,IF(K13="〇",10,0)) -> 0
A14: 放射線管理費合計 | L14: =SUM(L11:L13) -> 0
A16: 放射線管理費ポイント算出表 （スクリーニング期脱落症例）
A17: 要 素 | C17: ウエイト | D17: ポイント | L17: ポイント
D18: Ⅰ | H18: Ⅱ
D19: (ｳｴｲﾄ×1) | H19: (ｳｴｲﾄ×5)
A20: A | B20: 撮影回数 | C20: 1 | D20: スクリーニング ×（回数） 依頼者手順による撮影 | G20: 回 | L20: =F20 -> 0
A21: B | B21: テスト画像の有無 | C21: 3 | H21: あり | L21: =IF(K21="〇",15,0) -> 0
A22: C | B22: 説明会実施 ・ファントム管理 | C22: 2 | D22: あり | L22: =IF(G22="〇",2,0) -> 0
A23: 放射線管理費合計 | L23: =SUM(L20:L22) -> 0
B25: １症例あたり放射線管理費：＠1,000円×合計ポイント

Sheet 病理管理費
A1: 香大書式５（病理管理費）
A2: ※ | B2: 該当欄に「回数」を入れてください。
B3: 治験実施診療科： | C3: ='投与症例 '!C6:G6 -> 0
B4: 治験課題名： | C4: ='投与症例 '!C7:L7 -> 0
I5: （治験実施計画書番号： | J5: ='投与症例 '!J8:L8 -> 0 | O5: ）
A7: 病理管理費ポイント算出表
A8: 要 素 | C8: ウエイト | D8: ポイント | P8: ポイント
D9: Ⅰ | G9: Ⅱ | J9: Ⅲ | M9: Ⅳ
D10: (ｳｴｲﾄ×1) | G10: (ｳｴｲﾄ×3) | J10: (ｳｴｲﾄ×5) | M10: (ｳｴｲﾄ×8)
A11: A | B11: 病理標本作成 | C11: 2 | D11: 1～10枚 | F11: 回 | G11: 11～20枚 | I11: 回 | J11: 21枚以上・ 特殊処理 （依頼者手順による） | L11: 回 | M11: 適性判断を要するもの | O11: 回 | P11: =E11*2+H11*6+K11*10+N11*16 -> 0
A12: 病理管理費合計 | P12: =P11 -> 0
A14: 病理管理費ポイント算出表 （スクリーニング期脱落症例）
A15: 要 素 | C15: ウエイト | D15: ポイント | P15: ポイント
D16: Ⅰ | G16: Ⅱ | J16: Ⅲ | M16: Ⅳ
D17: (ｳｴｲﾄ×1) | G17: (ｳｴｲﾄ×3) | J17: (ｳｴｲﾄ×5) | M17: (ｳｴｲﾄ×8)
A18: A | B18: 病理標本作成 | C18: 2 | D18: 1～10枚 | F18: 回 | G18: 11～20枚 | I18: 回 | J18: 21枚以上・ 特殊処理 （依頼者手順による） | L18: 回 | M18: 適性判断を要するもの | O18: 回 | P18: =E18*2+H18*6+K18*10+N18*16 -> 0
A19: 病理管理費合計 | P19: =P18 -> 0
B21: １症例あたり病理管理費：＠1,000円×合計ポイント

Sheet 記入上の注意（投与）
C1: 2023.4
B2: 臨床試験研究経費ポイント算出表記入上の注意
B3: 投与症例
A4: A | B4: 疾患の重篤度 | C4: 疾患全ての中での重篤度を意味し、個々の疾患内での相対的な重篤やプロトコル上の表現は意味しない。
A5: D | B5: デザイン | C5: 封筒法は単盲検に相当し、電話割付法はそのための手間等を勘案し、二重盲検法に相当するものとする。
A6: G | B6: 治験薬の投与の経路 | C6: 比較試験におけるダミ－法など複数の投与経路がある場合は、より高い方を採用する。
A7: I | B7: ポピュレ－ション | C7: 小児は１８才未満、高齢者は７５才以上とする。 治験の目的が「肝・腎」障害を有する患者を対象とする場合で、例えば、「肝機能低下又は腎機能低下のある患者における薬物動態試験」などが該当する。また、「腎障害を伴う高血圧」（腎血管性高血圧症を含む）や「認知症を伴う高齢者」もこの範囲に含める。
A8: K | B8: 観察頻度 （受診回数） | C8: 「４週に２回」とは来院頻度が２週間に１回程度のものとする。「４週に３回以上」とは、急性の疾患などで１週間に１回以上の頻度で観察を要するものとする。入院例では、計画書に定められた観察時期の頻度によって区分する。最頻値とする。
A9: L | B9: 臨床検査・自他覚症状観察項目数（受診１回当り） | C9: プロトコルに定められた１回当りの合計項目数とする。身長、体重、心電図、単純Ｘ線等も含む。 身長・体重＝１、バイタルサイン（血圧・脈拍・体温・呼吸）＝１ ※神経学的調査など、治験スケジュールの項目をカウントする。
A10: M | B10: 薬物動態測定等のための採血・採尿回数（受診１回当り） | C10: 薬物の体内動態測定等のために時間を追って行われる採血や採尿で、１回の来院（診察)当たりの回数とする。 採血が１つの採血管を用いて複数に分かれる場合は１回と数える。なお、留置針により異なる時点で採血する場合には、採血時点の数を採血回数とする。
A11: N | B11: 機能検査,画像診断等 | C11: 被験者選定や薬効評価上規定されているものとする。これらの検査にかかる費用は治験の保険外併用療養費化に伴い別途治験依頼者に請求されるが、これらの検査の技術や評価に関して考慮したもので、例えば、次の機能検査等が該当する。
C12: ①超音波・ＣＴ・MRIなどの画像検査（造影剤使用は関係ない） ②畜尿（蛋白量、ｅＧＦＲ） ③マスタ－２段階法など運動負荷心電図検査ホルダ－心電図 ④自動血圧計（ＡＢＰＭ） ⑤骨塩量測定（ＤＸＡ等） ⑥肝・腎機能等の負荷試験 ⑦内視鏡検査 ⑧心血行動態検査（心カテ） ⑨冠動脈造影（ＣＡＧ） ⑩胆道機能検査（胆汁採取） セットとして組まれる検査を１項目とし、治験の前後に実施したときには２項目と算定する。

Sheet F 投与期間ポイント
A1: ｳｴｲﾄ | B1: 投与週数 | E1: ﾎﾟｲﾝﾄ | F1: 合計ﾎﾟｲﾝﾄ
A2: Ⅰ | C2: ～ | D2: 4W以内 | E2: 1 | F2: =E2*2 -> 2
A3: Ⅱ | B3: 5 | C3: ～ | D3: 24 | E3: 3 | F3: =E3*2 -> 6
A4: Ⅲ | B4: 25 | C4: ～ | D4: 48 | E4: 5 | F4: =E4*2 -> 10
A5: Ⅳ | B5: 49 | C5: ～ | D5: 72 | E5: 8 | F5: =E5*2 -> 16
B6: =D5+1 -> 73 | C6: ～ | D6: =D5+24 -> 96 | E6: =E5+3 -> 11 | F6: =E6*2 -> 22
B7: =D6+1 -> 97 | C7: ～ | D7: =D6+24 -> 120 | E7: =E6+3 -> 14 | F7: =E7*2 -> 28
B8: =D7+1 -> 121 | C8: ～ | D8: =D7+24 -> 144 | E8: =E7+3 -> 17 | F8: =E8*2 -> 34
B9: =D8+1 -> 145 | C9: ～ | D9: =D8+24 -> 168 | E9: =E8+3 -> 20 | F9: =E9*2 -> 40
B10: =D9+1 -> 169 | C10: ～ | D10: =D9+24 -> 192 | E10: =E9+3 -> 23 | F10: =E10*2 -> 46
B11: =D10+1 -> 193 | C11: ～ | D11: =D10+24 -> 216 | E11: =E10+3 -> 26 | F11: =E11*2 -> 52
B12: =D11+1 -> 217 | C12: ～ | D12: =D11+24 -> 240 | E12: =E11+3 -> 29 | F12: =E12*2 -> 58
B13: =D12+1 -> 241 | C13: ～ | D13: =D12+24 -> 264 | E13: =E12+3 -> 32 | F13: =E13*2 -> 64
B14: =D13+1 -> 265 | C14: ～ | D14: =D13+24 -> 288 | E14: =E13+3 -> 35 | F14: =E14*2 -> 70
B15: =D14+1 -> 289 | C15: ～ | D15: =D14+24 -> 312 | E15: =E14+3 -> 38 | F15: =E15*2 -> 76
B16: =D15+1 -> 313 | C16: ～ | D16: =D15+24 -> 336 | E16: =E15+3 -> 41 | F16: =E16*2 -> 82
B17: =D16+1 -> 337 | C17: ～ | D17: =D16+24 -> 360 | E17: =E16+3 -> 44 | F17: =E17*2 -> 88
... B22: =D21+1 -> 457 | C22: ～ | D22: =D21+24 -> 480 | E22: =E21+3 -> 59 | F22: =E22*2 -> 118

Sheet 治験薬管理費B・調剤及び出庫回数ポイント
A1: ｳｴｲﾄ | B1: 調剤及び出庫回数 | E1: ﾎﾟｲﾝﾄ
A2: Ⅰ | B2: 1 | C2: (単回) | E2: =B2*3 -> 3
A3: Ⅱ | B3: 2 | C3: ～ | D3: =6 -> 6 | E3: =E2+3 -> 6
A4: Ⅲ | B4: =D3+1 -> 7 | C4: ～ | D4: =D3+6 -> 12 | E4: =E3+3 -> 9
A5: Ⅳ | B5: =D4+1 -> 13 | C5: ～ | D5: =D4+6 -> 18 | E5: =E4+6 -> 15
B6: =D5+1 -> 19 | C6: ～ | D6: =D5+6 -> 24 | E6: =E5+6 -> 21
B7: =D6+1 -> 25 | C7: ～ | D7: =D6+6 -> 30 | E7: =E6+6 -> 27
B8: =D7+1 -> 31 | C8: ～ | D8: =D7+6 -> 36 | E8: =E7+6 -> 33
B9: =D8+1 -> 37 | C9: ～ | D9: =D8+6 -> 42 | E9: =E8+6 -> 39
B10: =D9+1 -> 43 | C10: ～ | D10: =D9+6 -> 48 | E10: =E9+6 -> 45
B11: =D10+1 -> 49 | C11: ～ | D11: =D10+6 -> 54 | E11: =E10+6 -> 51
B12: =D11+1 -> 55 | C12: ～ | D12: =D11+6 -> 60 | E12: =E11+6 -> 57
B13: =D12+1 -> 61 | C13: ～ | D13: =D12+6 -> 66 | E13: =E12+6 -> 63
B14: =D13+1 -> 67 | C14: ～ | D14: =D13+6 -> 72 | E14: =E13+6 -> 69
B15: =D14+1 -> 73 | C15: ～ | D15: =D14+6 -> 78 | E15: =E14+6 -> 75
B16: =D15+1 -> 79 | C16: ～ | D16: =D15+6 -> 84 | E16: =E15+6 -> 81
B17: =D16+1 -> 85 | C17: ～ | D17: =D16+6 -> 90 | E17: =E16+6 -> 87
... B22: =D21+1 -> 115 | C22: ～ | D22: =D21+6 -> 120 | E22: =E21+6 -> 117
